BEGIN:VCALENDAR
VERSION:2.0
PRODID:-//Gippsland Region Palliative Care Consortium - ECPv5.2.0//NONSGML v1.0//EN
CALSCALE:GREGORIAN
METHOD:PUBLISH
X-WR-CALNAME:Gippsland Region Palliative Care Consortium
X-ORIGINAL-URL:http://www.grpcc.com.au
X-WR-CALDESC:Events for Gippsland Region Palliative Care Consortium
BEGIN:VTIMEZONE
TZID:Australia/Melbourne
BEGIN:STANDARD
TZOFFSETFROM:+1100
TZOFFSETTO:+1000
TZNAME:AEST
DTSTART:20210403T160000
END:STANDARD
BEGIN:DAYLIGHT
TZOFFSETFROM:+1000
TZOFFSETTO:+1100
TZNAME:AEDT
DTSTART:20211002T160000
END:DAYLIGHT
END:VTIMEZONE
BEGIN:VEVENT
DTSTART;TZID=Australia/Melbourne:20210415T090000
DTEND;TZID=Australia/Melbourne:20210415T160000
DTSTAMP:20210226T091859
CREATED:20210204T223908Z
LAST-MODIFIED:20210204T224547Z
UID:2971-1618477200-1618502400@www.grpcc.com.au
SUMMARY:Palliative Approach in Allied Health and Communication Skills Workshop - Warragul
DESCRIPTION:The Program of Experience in the Palliative Approach (PEPA) aims to improve the accessibility of quality\npalliative care in the community by increasing the skills and confidence of health professionals who are\ncaring for people with life-limiting illnesses\, and their families \nTopics covered include: \n\nWhat is the palliative approach?\nLife limiting illnesses\nAdvance Care Directives and the Medical Treatment Planning & Decisions Act 2016\nCaring for the professional caregiver\nCommunication skills training focusing on palliative care conversations
URL:http://www.grpcc.com.au/event/palliative-approach-in-allied-health-and-communication-skills-workshop/
LOCATION:Monash School of Rural Health – Warragul\, Sargeant Street\, Warragul\, Vic\, 3820\, Australia
END:VEVENT
END:VCALENDAR